BEGIN:VCALENDAR
VERSION:2.0
PRODID:-//ChamberMaster//Event Calendar 2.0//EN
METHOD:PUBLISH
X-PUBLISHED-TTL:P3D
REFRESH-INTERVAL:P3D
CALSCALE:GREGORIAN
BEGIN:VEVENT
DTSTART:20260506T153000Z
DTEND:20260506T170000Z
X-MICROSOFT-CDO-ALLDAYEVENT:FALSE
SUMMARY:May 2026 MYPros Grub Club - Beatniks
DESCRIPTION:Join us for Grub Club at Beatniks on May 6!\n\nStop in for a casual lunch and great conversation with fellow young professionals.\n\nNo registration needed just swing by and grab a bite.
X-ALT-DESC;FMTTYPE=text/html:<p dir="ltr" style="line-height: 1.38\; margin-top: 12pt\; margin-bottom: 0pt\; padding: 0pt 0pt 12pt\;"><span style="font-size:16px\;"><span style="font-family:arial\;"><span id="docs-internal-guid-525e69db-7fff-57ac-3d25-503931f33ea4"><span style="font-variant: normal\; vertical-align: baseline\; white-space: pre-wrap\;">Join us for Grub Club at Beatniks on May 6!</span></span></span></span></p>\n\n<p dir="ltr" style="line-height: 1.38\; margin-top: 0pt\; margin-bottom: 0pt\; padding: 0pt 0pt 12pt\;"><span style="font-size:16px\;"><span style="font-family:arial\;"><span id="docs-internal-guid-525e69db-7fff-57ac-3d25-503931f33ea4"><span style="font-variant: normal\; vertical-align: baseline\; white-space: pre-wrap\;">Stop in for a casual lunch and great conversation with fellow young professionals.</span></span></span></span></p>\n\n<p dir="ltr" style="line-height: 1.38\; margin-top: 0pt\; margin-bottom: 12pt\;"><span style="font-size:16px\;"><span style="font-family:arial\;"><span id="docs-internal-guid-525e69db-7fff-57ac-3d25-503931f33ea4"><span style="font-variant: normal\; vertical-align: baseline\; white-space: pre-wrap\;">No registration needed&mdash\;just swing by and grab a bite.</span></span></span></span></p>\n
LOCATION:Beatniks 134 Ashman Street Midland\, MI 48640
UID:e.2773.15594
SEQUENCE:3
DTSTAMP:20260421T212015Z
URL:https://business.mbami.org/events/details/may-2026-mypros-grub-club-beatniks-15594
END:VEVENT

END:VCALENDAR
