BEGIN:VCALENDAR
VERSION:2.0
PRODID:-//ChamberMaster//Event Calendar 2.0//EN
METHOD:PUBLISH
X-PUBLISHED-TTL:P3D
REFRESH-INTERVAL:P3D
CALSCALE:GREGORIAN
BEGIN:VEVENT
DTSTART:20260519T120000Z
DTEND:20260519T133000Z
X-MICROSOFT-CDO-ALLDAYEVENT:FALSE
SUMMARY:MYPros Think Tank - May 2026
DESCRIPTION:Join us for Think Tank   a chance to connect one-on-one with seasoned professionals in graphic design\, nonprofits and the food & restaurant industry!\n\nThinking about taking your food truck or home-based business to the next level with a brick-and-mortar location? Curious what it's like to serve on a non-profit board? Still trying to figure out where to start with graphic design or how something "easy like Canva"  can still feel confusing? You're not alone.\n\n\n\nLucky for you\, our experts are here to share practical insights you can actually use.\n\nNo matter what you're juggling\, we'll get you in a small group setting where you can ask all your big questions and leave with fresh ideas\, new connections and actionable advice.\n \n\nHow It Works\n \n\nWe'll kick things off with quick introductions from each expert so you can get a feel for their experience and focus areas. Then\, you'll choose the topic that interests you most and join that table. \n \n\nInterested in exploring more than one topic? Not a problem!\n \n\nEvery 15 minutes\, we'll signal to rotate tables. You can stay where you are or move to a new table it's completely up to you.\n \n\nBring your questions! From specific challenges you're facing to big-picture career advice\, this is your chance to learn\, brainstorm and get real-world guidance in a small-group setting.\n \n\nIndustry Experts \n \n\nJesse Fletcher\, Executive Director of the Humane Society of Midland County\n\n \n\nJim Baker\, Owner of Pizza Baker\n\n \n\nAnnie Stout\, Graphic Designer and Founder of Paper Heart Design Co.
X-ALT-DESC;FMTTYPE=text/html:<p dir="ltr" style="line-height: 1.38\; margin-top: 12pt\; margin-bottom: 12pt\;"><br />\n<span style="color:#000000\;"><span style="font-size: 16px\;"><span style="font-family: arial\;"><span id="docs-internal-guid-6e4c5b65-7fff-11a3-38b3-f5fa51f4b0ce"><span style="font-variant-numeric: normal\; font-variant-east-asian: normal\; font-variant-alternates: normal\; font-variant-position: normal\; font-variant-emoji: normal\; vertical-align: baseline\; white-space-collapse: preserve\;">Join us for Think Tank &ndash\; a chance to connect one-on-one with seasoned professionals in graphic design\, nonprofits and the food &amp\; restaurant industry!</span></span></span></span></span></p>\n\n<p dir="ltr" style="line-height: 1.38\; margin-top: 12pt\; margin-bottom: 12pt\;"><span style="font-size:16px\;"><span style="font-family:arial\;"><span style="color:#000000\;">Thinking about taking your food truck or home-based business to the next level with a brick-and-mortar location?<span style="font-variant-numeric: normal\; font-variant-east-asian: normal\; font-variant-alternates: normal\; font-variant-position: normal\; font-variant-emoji: normal\; vertical-align: baseline\; white-space-collapse: preserve\;"> Curious what it&#39\;s like to serve on a non-profit board? </span><span style="font-variant-numeric: normal\; font-variant-east-asian: normal\; font-variant-alternates: normal\; font-variant-position: normal\; font-variant-emoji: normal\; vertical-align: baseline\; white-space-collapse: preserve\;">S</span>till trying to figure out where to start with graphic design or how something &quot\;easy like Canva&quot\;&nbsp\; can still feel&nbsp\;confusing?<span style="font-variant-numeric: normal\; font-variant-east-asian: normal\; font-variant-alternates: normal\; font-variant-position: normal\; font-variant-emoji: normal\; vertical-align: baseline\; white-space-collapse: preserve\;"> </span><span style="font-variant-numeric: normal\; font-variant-east-asian: normal\; font-variant-alternates: normal\; font-variant-position: normal\; font-variant-emoji: normal\; vertical-align: baseline\; white-space-collapse: preserve\;">You&#39\;re not alone.</span></span><br />\n<br />\n<span><span style="color: rgb(0\, 0\, 0)\; font-variant-numeric: normal\; font-variant-east-asian: normal\; font-variant-alternates: normal\; font-variant-position: normal\; font-variant-emoji: normal\; vertical-align: baseline\; white-space-collapse: preserve\;">Lucky for you\, our experts are here to share practical insights you can actually use.</span></span></span></span></p>\n\n<p dir="ltr" style="line-height: 1.38\; margin-top: 0pt\; margin-bottom: 0pt\;"><span style="font-size: 16px\;"><span style="font-family: arial\;"><span id="docs-internal-guid-6e4c5b65-7fff-11a3-38b3-f5fa51f4b0ce"><span style="color: rgb(0\, 0\, 0)\; font-variant-numeric: normal\; font-variant-east-asian: normal\; font-variant-alternates: normal\; font-variant-position: normal\; font-variant-emoji: normal\; vertical-align: baseline\; white-space-collapse: preserve\;">No matter what you&#39\;re juggling\, we&#39\;ll get you in a small group setting where you can ask all your big questions and leave with fresh ideas\, new connections and actionable advice.</span></span></span></span></p>\n&nbsp\;\n\n<p dir="ltr" style="line-height: 1.38\; margin-top: 0pt\; margin-bottom: 0pt\;"><span style="font-size: 16px\;"><span style="font-family: arial\;"><span id="docs-internal-guid-6e4c5b65-7fff-11a3-38b3-f5fa51f4b0ce"><span style="color: rgb(0\, 0\, 0)\; font-weight: 700\; font-variant-numeric: normal\; font-variant-east-asian: normal\; font-variant-alternates: normal\; font-variant-position: normal\; font-variant-emoji: normal\; vertical-align: baseline\; white-space-collapse: preserve\;">How It Works</span></span></span></span></p>\n&nbsp\;\n\n<p dir="ltr" style="line-height: 1.38\; margin-top: 0pt\; margin-bottom: 0pt\;"><span style="font-size: 16px\;"><span style="font-family: arial\;"><span id="docs-internal-guid-6e4c5b65-7fff-11a3-38b3-f5fa51f4b0ce"><span style="color: rgb(0\, 0\, 0)\; font-variant-numeric: normal\; font-variant-east-asian: normal\; font-variant-alternates: normal\; font-variant-position: normal\; font-variant-emoji: normal\; vertical-align: baseline\; white-space-collapse: preserve\;">We&rsquo\;ll kick things off with quick introductions from each expert so you can get a feel for their experience and focus areas. Then\, you&rsquo\;ll choose the topic that interests you most and join that table.&nbsp\;</span></span></span></span></p>\n&nbsp\;\n\n<p dir="ltr" style="line-height: 1.38\; margin-top: 0pt\; margin-bottom: 0pt\;"><span style="font-size: 16px\;"><span style="font-family: arial\;"><span id="docs-internal-guid-6e4c5b65-7fff-11a3-38b3-f5fa51f4b0ce"><span style="color: rgb(0\, 0\, 0)\; font-variant-numeric: normal\; font-variant-east-asian: normal\; font-variant-alternates: normal\; font-variant-position: normal\; font-variant-emoji: normal\; vertical-align: baseline\; white-space-collapse: preserve\;">Interested in exploring more than one topic? Not a problem!</span></span></span></span></p>\n&nbsp\;\n\n<p dir="ltr" style="line-height: 1.38\; margin-top: 0pt\; margin-bottom: 0pt\;"><span style="font-size: 16px\;"><span style="font-family: arial\;"><span id="docs-internal-guid-6e4c5b65-7fff-11a3-38b3-f5fa51f4b0ce"><span style="color: rgb(0\, 0\, 0)\; font-variant-numeric: normal\; font-variant-east-asian: normal\; font-variant-alternates: normal\; font-variant-position: normal\; font-variant-emoji: normal\; vertical-align: baseline\; white-space-collapse: preserve\;">Every 15 minutes\, we&rsquo\;ll signal to rotate tables. You can stay where you are or move to a new table&mdash\;it&rsquo\;s completely up to you.</span></span></span></span></p>\n&nbsp\;\n\n<p dir="ltr" style="line-height: 1.38\; margin-top: 0pt\; margin-bottom: 0pt\;"><span style="font-size: 16px\;"><span style="font-family: arial\;"><span id="docs-internal-guid-6e4c5b65-7fff-11a3-38b3-f5fa51f4b0ce"><span style="color: rgb(0\, 0\, 0)\; font-variant-numeric: normal\; font-variant-east-asian: normal\; font-variant-alternates: normal\; font-variant-position: normal\; font-variant-emoji: normal\; vertical-align: baseline\; white-space-collapse: preserve\;">Bring your questions! From specific challenges you&rsquo\;re facing to big-picture career advice\, this is your chance to learn\, brainstorm and get real-world guidance in a small-group setting.</span></span></span></span></p>\n&nbsp\;\n\n<p dir="ltr" style="line-height: 1.38\; margin-top: 0pt\; margin-bottom: 0pt\;"><span style="font-size: 16px\;"><span style="font-family: arial\;"><span id="docs-internal-guid-6e4c5b65-7fff-11a3-38b3-f5fa51f4b0ce"><span style="color: rgb(0\, 0\, 0)\; font-weight: 700\; font-variant-numeric: normal\; font-variant-east-asian: normal\; font-variant-alternates: normal\; font-variant-position: normal\; font-variant-emoji: normal\; vertical-align: baseline\; white-space-collapse: preserve\;">Industry Experts&nbsp\;</span></span></span></span></p>\n&nbsp\;\n\n<p dir="ltr" style="line-height: 1.38\; margin-top: 0pt\; margin-bottom: 0pt\;"><span style="font-size: 16px\;"><span style="font-family: arial\;"><span id="docs-internal-guid-6e4c5b65-7fff-11a3-38b3-f5fa51f4b0ce"><span style="color: rgb(0\, 0\, 0)\; font-variant-numeric: normal\; font-variant-east-asian: normal\; font-variant-alternates: normal\; font-variant-position: normal\; font-variant-emoji: normal\; vertical-align: baseline\; white-space-collapse: preserve\;">Jesse Fletcher\, <em>Executive Director of the Humane Society of Midland County</em></span></span></span></span><br />\n&nbsp\;</p>\n\n<p dir="ltr" style="line-height: 1.38\; margin-top: 12pt\; margin-bottom: 12pt\;"><span style="font-size: 16px\;"><span style="font-family: arial\;"><span id="docs-internal-guid-6e4c5b65-7fff-11a3-38b3-f5fa51f4b0ce"><span style="color: rgb(0\, 0\, 0)\; font-variant-numeric: normal\; font-variant-east-asian: normal\; font-variant-alternates: normal\; font-variant-position: normal\; font-variant-emoji: normal\; vertical-align: baseline\; white-space-collapse: preserve\;">Jim Baker\, <em>Owner of Pizza Baker</em></span></span></span></span><br />\n&nbsp\;</p>\n\n<p dir="ltr" style="line-height: 1.38\; margin-top: 12pt\; margin-bottom: 12pt\;"><span style="font-size: 16px\;"><span style="font-family: arial\;"><span id="docs-internal-guid-6e4c5b65-7fff-11a3-38b3-f5fa51f4b0ce"><span style="color: rgb(0\, 0\, 0)\; font-variant-numeric: normal\; font-variant-east-asian: normal\; font-variant-alternates: normal\; font-variant-position: normal\; font-variant-emoji: normal\; vertical-align: baseline\; white-space-collapse: preserve\;">Annie Stout\, <em>Graphic Designer and Founder of Paper Heart Design Co.</em></span></span></span></span></p>\n
LOCATION:Midland Business Alliance 300 Rodd Street Midland\, MI 48640
UID:e.2773.15595
SEQUENCE:3
DTSTAMP:20260424T204207Z
URL:https://business.mbami.org/events/details/mypros-think-tank-may-2026-15595
END:VEVENT

END:VCALENDAR
